BEGIN:VCALENDAR
VERSION:2.0
PRODID:-//Ace Activities - ECPv6.15.20//NONSGML v1.0//EN
CALSCALE:GREGORIAN
METHOD:PUBLISH
X-ORIGINAL-URL:https://aceactivities.org.uk
X-WR-CALDESC:Events for Ace Activities
REFRESH-INTERVAL;VALUE=DURATION:PT1H
X-Robots-Tag:noindex
X-PUBLISHED-TTL:PT1H
BEGIN:VTIMEZONE
TZID:UTC
BEGIN:STANDARD
TZOFFSETFROM:+0000
TZOFFSETTO:+0000
TZNAME:UTC
DTSTART:20240101T000000
END:STANDARD
END:VTIMEZONE
BEGIN:VEVENT
DTSTART;TZID=UTC:20250518T110000
DTEND;TZID=UTC:20250518T170000
DTSTAMP:20260421T202208
CREATED:20250220T174157Z
LAST-MODIFIED:20250220T174200Z
UID:2896-1747566000-1747587600@aceactivities.org.uk
SUMMARY:Chigwell May Fayre
DESCRIPTION:We will have a stall selling mainly our ACE Upcyclers’ products made from recycled timber.
URL:https://aceactivities.org.uk/event/chigwell-may-fayre/
END:VEVENT
END:VCALENDAR