BEGIN:VCALENDAR
VERSION:2.0
PRODID:-//Ace Activities - ECPv6.15.20//NONSGML v1.0//EN
CALSCALE:GREGORIAN
METHOD:PUBLISH
X-ORIGINAL-URL:https://aceactivities.org.uk
X-WR-CALDESC:Events for Ace Activities
REFRESH-INTERVAL;VALUE=DURATION:PT1H
X-Robots-Tag:noindex
X-PUBLISHED-TTL:PT1H
BEGIN:VTIMEZONE
TZID:UTC
BEGIN:STANDARD
TZOFFSETFROM:+0000
TZOFFSETTO:+0000
TZNAME:UTC
DTSTART:20240101T000000
END:STANDARD
END:VTIMEZONE
BEGIN:VEVENT
DTSTART;TZID=UTC:20250525T133000
DTEND;TZID=UTC:20250525T170000
DTSTAMP:20260421T202213
CREATED:20250220T175123Z
LAST-MODIFIED:20250517T070648Z
UID:2900-1748179800-1748192400@aceactivities.org.uk
SUMMARY:Charity Football Match *postponed*
DESCRIPTION:We’re sorry to announce that the Charity Football Match\, originally planned for 25th May 2025\, has been postponed until September. \n\n\n\nWhy? Well\, in an unexpected but exciting twist\, several of our key players—passionate supporters of the brilliant Leyton Orient—now have the chance to cheer on their team in the division one play offs… something they never imagined possible! \n\n\n\nWhile we’re disappointed to lose some vital players for our original date\, we absolutely understand their loyalty and enthusiasm for backing the reds (Go Orient! ). \n\n\n\nBut don’t worry—this is just a delay\, not a cancellation. The rescheduled match will take place in September\, and we’re working hard to make it bigger\, better\, and even more exciting than before! Stay tuned for updates and details soon. \n\n\n\nA massive thank you to our amazing sponsors\, who continue to support us and our cause—we’re proud to have you on board. \n\n\n\nNew date coming soon!
URL:https://aceactivities.org.uk/event/charity-football-match/
LOCATION:Grange Farm Centre\, Grange Farm Lane\, Chigwell\, IG7 6DP
END:VEVENT
END:VCALENDAR