BEGIN:VCALENDAR
VERSION:2.0
PRODID:-//Ace Activities - ECPv6.15.20//NONSGML v1.0//EN
CALSCALE:GREGORIAN
METHOD:PUBLISH
X-WR-CALNAME:Ace Activities
X-ORIGINAL-URL:https://aceactivities.org.uk
X-WR-CALDESC:Events for Ace Activities
REFRESH-INTERVAL;VALUE=DURATION:PT1H
X-Robots-Tag:noindex
X-PUBLISHED-TTL:PT1H
BEGIN:VTIMEZONE
TZID:UTC
BEGIN:STANDARD
TZOFFSETFROM:+0000
TZOFFSETTO:+0000
TZNAME:UTC
DTSTART:20230101T000000
END:STANDARD
END:VTIMEZONE
BEGIN:VEVENT
DTSTART;TZID=UTC:20240621T120000
DTEND;TZID=UTC:20240621T170000
DTSTAMP:20260424T020740
CREATED:20240602T073141Z
LAST-MODIFIED:20240602T073423Z
UID:2615-1718971200-1718989200@aceactivities.org.uk
SUMMARY:Learning Disability Festival
DESCRIPTION:This is a festival showcasing what is available for those with learning disabilities in the area\, with various fun activities. Our ACE Upcyclers will be there and ACE ‘Hands up to Music’ will be performing on the big stage!
URL:https://aceactivities.org.uk/event/learning-disability-festival/
CATEGORIES:Fairs
ATTACH;FMTTYPE=image/png:https://aceactivities.org.uk/wp-content/uploads/2024/06/LD-Festival-Poster.png
END:VEVENT
END:VCALENDAR