BEGIN:VCALENDAR
VERSION:2.0
PRODID:-//Ace Activities - ECPv6.15.20//NONSGML v1.0//EN
CALSCALE:GREGORIAN
METHOD:PUBLISH
X-ORIGINAL-URL:https://aceactivities.org.uk
X-WR-CALDESC:Events for Ace Activities
REFRESH-INTERVAL;VALUE=DURATION:PT1H
X-Robots-Tag:noindex
X-PUBLISHED-TTL:PT1H
BEGIN:VTIMEZONE
TZID:UTC
BEGIN:STANDARD
TZOFFSETFROM:+0000
TZOFFSETTO:+0000
TZNAME:UTC
DTSTART:20240101T000000
END:STANDARD
END:VTIMEZONE
BEGIN:VEVENT
DTSTART;TZID=UTC:20250518T110000
DTEND;TZID=UTC:20250518T170000
DTSTAMP:20260422T012006
CREATED:20250220T174157Z
LAST-MODIFIED:20250220T174200Z
UID:2896-1747566000-1747587600@aceactivities.org.uk
SUMMARY:Chigwell May Fayre
DESCRIPTION:We will have a stall selling mainly our ACE Upcyclers’ products made from recycled timber.
URL:https://aceactivities.org.uk/event/chigwell-may-fayre/
END:VEVENT
BEGIN:VEVENT
DTSTART;TZID=UTC:20250525T133000
DTEND;TZID=UTC:20250525T170000
DTSTAMP:20260422T012006
CREATED:20250220T175123Z
LAST-MODIFIED:20250517T070648Z
UID:2900-1748179800-1748192400@aceactivities.org.uk
SUMMARY:Charity Football Match *postponed*
DESCRIPTION:We’re sorry to announce that the Charity Football Match\, originally planned for 25th May 2025\, has been postponed until September. \n\n\n\nWhy? Well\, in an unexpected but exciting twist\, several of our key players—passionate supporters of the brilliant Leyton Orient—now have the chance to cheer on their team in the division one play offs… something they never imagined possible! \n\n\n\nWhile we’re disappointed to lose some vital players for our original date\, we absolutely understand their loyalty and enthusiasm for backing the reds (Go Orient! ). \n\n\n\nBut don’t worry—this is just a delay\, not a cancellation. The rescheduled match will take place in September\, and we’re working hard to make it bigger\, better\, and even more exciting than before! Stay tuned for updates and details soon. \n\n\n\nA massive thank you to our amazing sponsors\, who continue to support us and our cause—we’re proud to have you on board. \n\n\n\nNew date coming soon!
URL:https://aceactivities.org.uk/event/charity-football-match/
LOCATION:Grange Farm Centre\, Grange Farm Lane\, Chigwell\, IG7 6DP
END:VEVENT
BEGIN:VEVENT
DTSTART;TZID=UTC:20250629T080000
DTEND;TZID=UTC:20250629T170000
DTSTAMP:20260422T012006
CREATED:20250220T175655Z
LAST-MODIFIED:20250220T175657Z
UID:2902-1751184000-1751216400@aceactivities.org.uk
SUMMARY:Chigwell Riding Trust open day
DESCRIPTION:We love to support the Riding Trust since they provide us with the manure for our allotment!  \n\n\n\nWe will have a stall selling ACE produce – from our Cooks\, Gardeners and Upcyclers. Come and take a look\, there’s bound to be something you’d like!
URL:https://aceactivities.org.uk/event/chigwell-riding-trust-open-day/
END:VEVENT
BEGIN:VEVENT
DTSTART;TZID=UTC:20250914T130000
DTEND;TZID=UTC:20250914T150000
DTSTAMP:20260422T012006
CREATED:20250701T173338Z
LAST-MODIFIED:20250701T173341Z
UID:2967-1757854800-1757862000@aceactivities.org.uk
SUMMARY:Charity Football Match
DESCRIPTION:Charity Football Match between Voluntary Action Epping Forest/ ACE Activities and Colebrook Legends\, at Grange Farm\, Chigwell. Kick off at 1pm. Refreshments\, Raffle and Auction. Come along and cheer on our team!!!
URL:https://aceactivities.org.uk/event/charity-football-match-2/
LOCATION:Grange Farm\, Grange Farm Lane\, Chigwell\, Essex\, IG7 6DP
END:VEVENT
BEGIN:VEVENT
DTSTART;TZID=UTC:20251107T103000
DTEND;TZID=UTC:20251107T163000
DTSTAMP:20260422T012006
CREATED:20251014T100129Z
LAST-MODIFIED:20251014T100132Z
UID:3066-1762511400-1762533000@aceactivities.org.uk
SUMMARY:Art and Climate Change Exhibition
DESCRIPTION:ACE Hands Up to Music will be performing at 1:15pm
URL:https://aceactivities.org.uk/event/art-and-climate-change-exhibition/
LOCATION:Grange Farm Centre\, Grange Farm Lane\, Chigwell\, IG7 6DP
END:VEVENT
BEGIN:VEVENT
DTSTART;TZID=UTC:20251107T190000
DTEND;TZID=UTC:20251107T213000
DTSTAMP:20260422T012006
CREATED:20251014T094625Z
LAST-MODIFIED:20251014T094628Z
UID:3059-1762542000-1762551000@aceactivities.org.uk
SUMMARY:Witches and Spooks Bonfire
DESCRIPTION:Join us for music\, food and fun – and of course a bonfire. No loud fireworks!
URL:https://aceactivities.org.uk/event/witches-and-spooks-bonfire/
LOCATION:Crystal Brook\, Little Gregories Lane\, Theydon Bois\, CM16 7JP
END:VEVENT
BEGIN:VEVENT
DTSTART;TZID=UTC:20251114T140000
DTEND;TZID=UTC:20251114T170000
DTSTAMP:20260422T012006
CREATED:20251014T101059Z
LAST-MODIFIED:20251014T102110Z
UID:3069-1763128800-1763139600@aceactivities.org.uk
SUMMARY:ACE Activities Awards Ceremony
DESCRIPTION:Come and support our awards to deserving members – contact Sally Panrucker for details
URL:https://aceactivities.org.uk/event/ace-activities-awards-ceremony/
LOCATION:Theydon Bois Village Hall\, Coppice Row\, Theydon Bois\, CM16 7ER
ORGANIZER;CN="Sally Panrucker":MAILTO:spanrucker@vaef.org.uk
END:VEVENT
BEGIN:VEVENT
DTSTART;TZID=UTC:20251205T130000
DTEND;TZID=UTC:20251208T140000
DTSTAMP:20260422T012006
CREATED:20251106T090918Z
LAST-MODIFIED:20251106T091434Z
UID:3121-1764939600-1765202400@aceactivities.org.uk
SUMMARY:Come and see us at the Epping Christmas Tree Festival
DESCRIPTION:ACE Arts will once again be taking part in the St John’s Epping Christmas Tree Festival\, where this year’s theme is “Epping Forest and Woodland Animals.” \n\n\n\nTree Festival Dates: Thursday 5th December (afternoon) – Monday 8th December. \n\n\n\nCome and vote for our tree!
URL:https://aceactivities.org.uk/event/come-and-see-us-at-the-epping-christmas-tree-festival/
END:VEVENT
BEGIN:VEVENT
DTSTART;TZID=UTC:20251206T000000
DTEND;TZID=UTC:20251206T190000
DTSTAMP:20260422T012006
CREATED:20251106T085850Z
LAST-MODIFIED:20251106T085855Z
UID:3113-1764979200-1765047600@aceactivities.org.uk
SUMMARY:Join Us at the Epping Christmas Market!
DESCRIPTION:Come along to this year’s Epping Christmas Market\, where ACE Activities will be holding a festive stall run by our talented ACE Upcyclers! \n\n\n\nWe’ll have a wonderful range of upcycled wooden products — perfect for Christmas presents — as well as arts and crafts from our Art Group\, and delicious treats and Christmas goodies from the ACE Cooking with Confidence group.
URL:https://aceactivities.org.uk/event/join-us-at-the-epping-christmas-market/
LOCATION:Epping High Street\, High Street\, Epping
END:VEVENT
BEGIN:VEVENT
DTSTART;TZID=UTC:20260531T120000
DTEND;TZID=UTC:20260531T120000
DTSTAMP:20260422T012006
CREATED:20260129T142812Z
LAST-MODIFIED:20260129T142920Z
UID:3191-1780228800-1780228800@aceactivities.org.uk
SUMMARY:Charity Football Match
DESCRIPTION:Following the success of last year’s charity football match\, we’re delighted to announce that it’s back again\, with even more fun planned. Please save the date: Sunday 31st May. More details\, including time and venue\, will follow soon.
URL:https://aceactivities.org.uk/event/charity-football-match-3/
END:VEVENT
END:VCALENDAR