BEGIN:VCALENDAR
VERSION:2.0
PRODID:-//Ace Activities - ECPv6.15.20//NONSGML v1.0//EN
CALSCALE:GREGORIAN
METHOD:PUBLISH
X-WR-CALNAME:Ace Activities
X-ORIGINAL-URL:https://aceactivities.org.uk
X-WR-CALDESC:Events for Ace Activities
REFRESH-INTERVAL;VALUE=DURATION:PT1H
X-Robots-Tag:noindex
X-PUBLISHED-TTL:PT1H
BEGIN:VTIMEZONE
TZID:UTC
BEGIN:STANDARD
TZOFFSETFROM:+0000
TZOFFSETTO:+0000
TZNAME:UTC
DTSTART:20220101T000000
END:STANDARD
END:VTIMEZONE
BEGIN:VEVENT
DTSTART;TZID=UTC:20230429T110000
DTEND;TZID=UTC:20230429T160000
DTSTAMP:20260421T123850
CREATED:20230331T140319Z
LAST-MODIFIED:20230331T140320Z
UID:515-1682766000-1682784000@aceactivities.org.uk
SUMMARY:ACE Upcycling at Swaines Green May Fayre
DESCRIPTION:Our Upcycling team will be selling the products they have made at the May Fayre. Come and see planters\, bird boxes and more\, and meet the folks who made them! All proceeds help to support ACE Activities.
URL:https://aceactivities.org.uk/event/ace-upcycling-at-swaines-green-may-fayre/
LOCATION:Swaines Green Recreation Ground\, Lower Swaines\, Epping\, UK\, CM16 5ER
CATEGORIES:Fairs
ATTACH;FMTTYPE=image/jpeg:https://aceactivities.org.uk/wp-content/uploads/2023/03/Upcycling-at-Chigwell-fair-cropped.jpg
END:VEVENT
END:VCALENDAR